BEGIN:VCALENDAR
VERSION:2.0
PRODID:-//Farmacia Pozzi - ECPv6.10.2//NONSGML v1.0//EN
CALSCALE:GREGORIAN
METHOD:PUBLISH
X-WR-CALNAME:Farmacia Pozzi
X-ORIGINAL-URL:https://www.farmaciapozzi.com
X-WR-CALDESC:Eventi per Farmacia Pozzi
REFRESH-INTERVAL;VALUE=DURATION:PT1H
X-Robots-Tag:noindex
X-PUBLISHED-TTL:PT1H
BEGIN:VTIMEZONE
TZID:Europe/Rome
BEGIN:DAYLIGHT
TZOFFSETFROM:+0100
TZOFFSETTO:+0200
TZNAME:CEST
DTSTART:20250330T010000
END:DAYLIGHT
BEGIN:STANDARD
TZOFFSETFROM:+0200
TZOFFSETTO:+0100
TZNAME:CET
DTSTART:20251026T010000
END:STANDARD
END:VTIMEZONE
BEGIN:VEVENT
DTSTART;VALUE=DATE:20250408
DTEND;VALUE=DATE:20250409
DTSTAMP:20260422T121749
CREATED:20250321T151311Z
LAST-MODIFIED:20250324T152133Z
UID:4827-1744070400-1744156799@www.farmaciapozzi.com
SUMMARY:Giornata Zuccari dedicata al drenaggio
DESCRIPTION:Degustazione gratuita dei migliori drenanti naturali.\nConsulenza personalizzata con la promoter Zuccari.\nPromo esclusive per chi partecipa all’evento. \nPrenota in tuo posto scrivendoci a farmacia@farmaciapozzi.com o via WhatsApp 389 928 7731
URL:https://www.farmaciapozzi.com/eventi/giornata-zuccari-dedicata-al-drenaggio/
LOCATION:Farmacia Pozzi\, Viale Scalabrini 102\, Bassano del Grappa\, 36060\, Italy
CATEGORIES:Detox
ATTACH;FMTTYPE=image/jpeg:https://www.farmaciapozzi.com/wp-content/uploads/2025/03/zuccari-8-Aprile.jpg
END:VEVENT
END:VCALENDAR